BEGIN:VCALENDAR
VERSION:2.0
PRODID:-//ChamberMaster//Event Calendar 2.0//EN
METHOD:PUBLISH
X-PUBLISHED-TTL:P3D
REFRESH-INTERVAL:P3D
CALSCALE:GREGORIAN
BEGIN:VEVENT
DTSTART:20101111T220000Z
DTEND:20101111T220000Z
X-MICROSOFT-CDO-ALLDAYEVENT:FALSE
SUMMARY:The Marine Military Academy presents a " Veterans Day Parade"
DESCRIPTION:SAVE THE DATE:  Your invited to our annual Veterans Day Parade. (weather permitting)  Bleacher seating is limited--lawn chairs are welcome.  For more information please call 956-202-3054.
X-ALT-DESC;FMTTYPE=text/html:SAVE THE DATE:  Your invited to our annual Veterans Day Parade. (weather permitting)  Bleacher seating is limited--lawn chairs are welcome.  For more information please call 956-202-3054.
LOCATION:Iwo Jima Memorial
UID:e.1828.2798
SEQUENCE:3
DTSTAMP:20260421T190704Z
URL:https://business.harlingen.com/events/details/the-marine-military-academy-presents-a-veterans-day-parade-11-11-2010-2798
END:VEVENT

END:VCALENDAR
