BEGIN:VCALENDAR
VERSION:2.0
PRODID:-//ChamberMaster//Event Calendar 2.0//EN
METHOD:PUBLISH
X-PUBLISHED-TTL:P3D
REFRESH-INTERVAL:P3D
CALSCALE:GREGORIAN
BEGIN:VEVENT
DTSTART:20120508T140000Z
DTEND:20120508T170000Z
X-MICROSOFT-CDO-ALLDAYEVENT:FALSE
SUMMARY:The Mid-Valley "Veterans Symposium & Job Fair"
DESCRIPTION:The Mid-Valley "Veterans Symposium & Job Fair"\nTuesday\, May 8\, 2012\nVeterans Symposium:   9:00 a.m. - 12:00 p.m.\nWhite Wings Harlingen Field\n1216 Fairpark Blvd.\n*Free lunch to 1st 150 Veterans before 9:00 a.m.\n Job Fair:   1:00 p.m. - 5:00 p.m.\nHarlingen Municipal Auditorium   \n1204 Fairpark Blvd.\n*FREE & open to all Job Seekers in South Texas  \nAttention Sponsors\, Vendors\, and Employers:  Your support of this event is greatly appreciated.  The main objective is to help find our unemployed Veterans a job in an upwardly mobile position which can ultimately sustain a growing family.  For potential employers\, you have the added benefit of the Jobs Fair being open to all citizens of South Texas.  This means we need employers with openings in all regions of South Texas especially in Cameron and Hidalgo Counties to come join us.  Every employer is welcome especially if you have one or more available positions needing immediate placement.  We expect to have large numbers of well qualified applicants to attend the event.
X-ALT-DESC;FMTTYPE=text/html:The Mid-Valley "Veterans Symposium & Job Fair"\nTuesday\, May 8\, 2012\nVeterans Symposium:   9:00 a.m. - 12:00 p.m.\nWhite Wings Harlingen Field\n1216 Fairpark Blvd.\n*Free lunch to 1st 150 Veterans before 9:00 a.m.\n Job Fair:   1:00 p.m. - 5:00 p.m.\nHarlingen Municipal Auditorium   \n1204 Fairpark Blvd.\n*FREE & open to all Job Seekers in South Texas  \nAttention Sponsors\, Vendors\, and Employers:  Your support of this event is greatly appreciated.  The main objective is to help find our unemployed Veterans a job in an upwardly mobile position which can ultimately sustain a growing family.  For potential employers\, you have the added benefit of the Jobs Fair being open to all citizens of South Texas.  This means we need employers with openings in all regions of South Texas especially in Cameron and Hidalgo Counties to come join us.  Every employer is welcome especially if you have one or more available positions needing immediate placement.  We expect to have large numbers of well qualified applicants to attend the event.  \n
LOCATION:
UID:e.1828.3643
SEQUENCE:3
DTSTAMP:20260420T150805Z
URL:https://business.harlingen.com/events/details/the-mid-valley-veterans-symposium-job-fair-05-08-2012-3643
END:VEVENT

END:VCALENDAR
