BEGIN:VCALENDAR
VERSION:2.0
PRODID:-//ChamberMaster//Event Calendar 2.0//EN
METHOD:PUBLISH
X-PUBLISHED-TTL:P3D
REFRESH-INTERVAL:P3D
CALSCALE:GREGORIAN
BEGIN:VEVENT
DTSTART:20120714T000000Z
DTEND:20120714T000000Z
X-MICROSOFT-CDO-ALLDAYEVENT:FALSE
SUMMARY:"The Pirates of Penzance"
DESCRIPTION:Harlingen Family Entertainment presents Gilbert & Sullivan's\, "The Pirates of Penzance." \nJuly 12\, 13\, 14\, and 19\, 20 - 7:00 pm\nSaturday July 21st - 2:00 pm  Matinee\n\nTo reserve your tickets call 956-412-7529. \,
X-ALT-DESC;FMTTYPE=text/html:Harlingen Family Entertainment presents Gilbert & Sullivan's\, "The Pirates of Penzance." \nJuly 12\, 13\, 14\, and 19\, 20 - 7:00 pm\nSaturday July 21st - 2:00 pm  Matinee\n\nTo reserve your tickets call 956-412-7529. \,
LOCATION:
UID:e.1828.3874
SEQUENCE:3
DTSTAMP:20260420T115600Z
URL:https://business.harlingen.com/events/details/the-pirates-of-penzance-07-13-2012-3874
END:VEVENT

END:VCALENDAR
