BEGIN:VCALENDAR
VERSION:2.0
PRODID:-//ChamberMaster//Event Calendar 2.0//EN
METHOD:PUBLISH
X-PUBLISHED-TTL:P3D
REFRESH-INTERVAL:P3D
CALSCALE:GREGORIAN
BEGIN:VEVENT
DTSTART:20100411T190000Z
DTEND:20100411T190000Z
X-MICROSOFT-CDO-ALLDAYEVENT:FALSE
SUMMARY:The Revolution in Cinema Series: La Escondida
DESCRIPTION:Join the Brownsville Historical Association\, the Mexican Consulate\, and film historian Rogelio Agrasanchez Jr. for the film screening of La Escondida (1956)\, starring Maria Felix and Pedro Armendariz\, in the third installment of "The Revolution in Cinema" Mexican Revolution Film Series. This event is free to the public. Sponsored in part by the Mexican Consulate of Brownsville\, the Mexican Ministry of Foreign Affairs\, and Rogelio Agrasanchez Jr. Seating is limited for this event.
X-ALT-DESC;FMTTYPE=text/html:Join the Brownsville Historical Association\, the Mexican Consulate\, and film historian Rogelio Agrasanchez Jr. for the film screening of La Escondida (1956)\, starring Maria Felix and Pedro Armendariz\, in the third installment of "The Revolution in Cinema" Mexican Revolution Film Series. This event is free to the public. Sponsored in part by the Mexican Consulate of Brownsville\, the Mexican Ministry of Foreign Affairs\, and Rogelio Agrasanchez Jr. Seating is limited for this event.
LOCATION:Brownsville Heritage Complex
UID:e.1828.2465
SEQUENCE:3
DTSTAMP:20260422T081110Z
URL:https://business.harlingen.com/events/details/the-revolution-in-cinema-series-la-escondida-04-11-2010-2465
END:VEVENT

END:VCALENDAR
