BEGIN:VCALENDAR
VERSION:2.0
PRODID:-//ChamberMaster//Event Calendar 2.0//EN
METHOD:PUBLISH
X-PUBLISHED-TTL:P3D
REFRESH-INTERVAL:P3D
CALSCALE:GREGORIAN
BEGIN:VEVENT
DTSTART:20100613T190000Z
DTEND:20100613T210000Z
X-MICROSOFT-CDO-ALLDAYEVENT:FALSE
SUMMARY:The Revolution in Cinema: Un Dorado de Pancho Villa
DESCRIPTION:Remember the 100th anniversary of the Mexican Revolution with the Mexican Revolution film series' screening of 1967's "Un Dorado de Pancho Villa\," directed by Emilio Fernandez. This event is free to the public. Sponsored in part by the Mexican Consulate of Brownsville\, the Mexican Ministry of Foreign Affairs\, and Rogelio Agrasanchez Jr.
X-ALT-DESC;FMTTYPE=text/html:Remember the 100th anniversary of the Mexican Revolution with the Mexican Revolution film series' screening of 1967's "Un Dorado de Pancho Villa\," directed by Emilio Fernandez. This event is free to the public. Sponsored in part by the Mexican Consulate of Brownsville\, the Mexican Ministry of Foreign Affairs\, and Rogelio Agrasanchez Jr.
LOCATION:Brownsville Heritage Complex
UID:e.1828.2533
SEQUENCE:3
DTSTAMP:20260422T031754Z
URL:https://business.harlingen.com/events/details/the-revolution-in-cinema-un-dorado-de-pancho-villa-06-13-2010-2533
END:VEVENT

END:VCALENDAR
