BEGIN:VCALENDAR
VERSION:2.0
PRODID:-//ChamberMaster//Event Calendar 2.0//EN
METHOD:PUBLISH
X-PUBLISHED-TTL:P3D
REFRESH-INTERVAL:P3D
CALSCALE:GREGORIAN
BEGIN:VEVENT
DTSTART:20091010T140000Z
DTEND:20091010T190000Z
X-MICROSOFT-CDO-ALLDAYEVENT:FALSE
SUMMARY:The Rio Grande Valley Nonprofit Expo & Job Fair
DESCRIPTION:The University of Texas-Pan American (UTPA) - Southwest Border Nonprofit Resource Center (SBNRC)\, the Delta Region Revitalization Corporation and Workforce Solutions in conjunction with the office of Congressman Ruben Hinojosa\, would like to invite you to The Rio Grande Valley Nonprofit Expo & Job Fair.\n \n \nThe Expo will bring together Rio Grande Valley nonprofit organizations to:\n1.      Create awareness in the community about local resources and programs\n2.      Recruit volunteers and board members\n3.      Do fundraising by becoming a vendor at the Mercado Delta** \nDon't wait to reserve your free informational booth with electricity.  Space is limited. \nDeadline for registration is October 6\, 2009.\n \nTo register go to the following link: http://ce.utpa.edu/sbnrc/?form=rgv_expo_oct10&lang=en or thru the SBNRC website at: http://ce.utpa.edu/sbnrc. For more information you may contact Carlos Fraire at 956-292-7566 or via email at cafaire@utpa.edu.\n \n**If your organization is interested in fundraising in addition to providing information become a vendor at the Mercado Delta. For more information on becoming vendor please contact Tony Sandoval at 956-262-0255 or visit the Mercado Delta webpage: http://www.mercadodelta.com. Vendor booths are available for a $25 donation.
X-ALT-DESC;FMTTYPE=text/html:The University of Texas-Pan American (UTPA) - Southwest Border Nonprofit Resource Center (SBNRC)\, the Delta Region Revitalization Corporation and Workforce Solutions in conjunction with the office of Congressman Ruben Hinojosa\, would like to invite you to The Rio Grande Valley Nonprofit Expo & Job Fair.\n \n \nThe Expo will bring together Rio Grande Valley nonprofit organizations to:\n1.      Create awareness in the community about local resources and programs\n2.      Recruit volunteers and board members\n3.      Do fundraising by becoming a vendor at the Mercado Delta** \nDon't wait to reserve your free informational booth with electricity.  Space is limited. \nDeadline for registration is October 6\, 2009.\n \nTo register go to the following link: http://ce.utpa.edu/sbnrc/?form=rgv_expo_oct10&lang=en or thru the SBNRC website at: http://ce.utpa.edu/sbnrc. For more information you may contact Carlos Fraire at 956-292-7566 or via email at cafaire@utpa.edu.\n \n**If your organization is interested in fundraising in addition to providing information become a vendor at the Mercado Delta. For more information on becoming vendor please contact Tony Sandoval at 956-262-0255 or visit the Mercado Delta webpage: http://www.mercadodelta.com. Vendor booths are available for a $25 donation.    \n
LOCATION:
UID:e.1828.2122
SEQUENCE:3
DTSTAMP:20260422T112508Z
URL:https://business.harlingen.com/events/details/the-rio-grande-valley-nonprofit-expo-job-fair-10-10-2009-2122
END:VEVENT

END:VCALENDAR
