BEGIN:VCALENDAR
VERSION:2.0
PRODID:-//ChamberMaster//Event Calendar 2.0//EN
METHOD:PUBLISH
X-PUBLISHED-TTL:P3D
REFRESH-INTERVAL:P3D
CALSCALE:GREGORIAN
BEGIN:VEVENT
DTSTART:20110615T150000Z
DTEND:20110615T150000Z
X-MICROSOFT-CDO-ALLDAYEVENT:FALSE
SUMMARY:The Scoop Ice Cream Parlor Grand Opening and Ribbon Cutting
DESCRIPTION:Come celebrate the grand opening and ribbon cutting ceremony and enjoy some ice cream. The Scoop serves sandwiches and specializes in ice cream. Also available for private parties.
X-ALT-DESC;FMTTYPE=text/html:Come celebrate the grand opening and ribbon cutting ceremony and enjoy some ice cream. The Scoop serves sandwiches and specializes in ice cream. Also available for private parties. \n
LOCATION:
UID:e.1828.3072
SEQUENCE:3
DTSTAMP:20260421T085026Z
URL:https://business.harlingen.com/events/details/the-scoop-ice-cream-parlor-grand-opening-and-ribbon-cutting-06-15-2011-3072
END:VEVENT

END:VCALENDAR
