BEGIN:VCALENDAR
VERSION:2.0
PRODID:-//ChamberMaster//Event Calendar 2.0//EN
METHOD:PUBLISH
X-PUBLISHED-TTL:P3D
REFRESH-INTERVAL:P3D
CALSCALE:GREGORIAN
BEGIN:VEVENT
DTSTART:20100227T170000Z
DTEND:20100227T170000Z
X-MICROSOFT-CDO-ALLDAYEVENT:FALSE
SUMMARY:The South Padre Island Birding & Nature Center Lecture Series
DESCRIPTION:Natural Science Lecture Series at SPI Birding   www.spibirding.com\; manager@spibirding.com.
X-ALT-DESC;FMTTYPE=text/html:Natural Science Lecture Series at SPI Birding & Nature Center  \n \nThe South Padre Island Birding & Nature Center has partnered with natural science professors from the UTPA (Edinburg) to offer guests lecture programs. All programs begin at 11:00 am and will last about an hour. Open to the Public. \n \nFebruary 27\, 2010 | Dr. Frank Judd | Plant Ecology of South Padre Island\n \nMarch 6\, 2010 | Dr. Kristi Lowe | Microbiology 101 of the Laguna Madre\n \nMarch 13\, 2010 | Dr. Andrew McDonald | Botanical Determination of the Tree of Life\n                        \nThese presentations are included in the price of admission - no extra fees will be charged. For more information: (956) 243-8179\; www.spibirding.com\; manager@spibirding.com. \n
LOCATION:
UID:e.1828.2389
SEQUENCE:3
DTSTAMP:20260422T095517Z
URL:https://business.harlingen.com/events/details/the-south-padre-island-birding-nature-center-lecture-series-02-27-2010-2389
END:VEVENT

END:VCALENDAR
