BEGIN:VCALENDAR
VERSION:2.0
PRODID:-//ChamberMaster//Event Calendar 2.0//EN
METHOD:PUBLISH
X-PUBLISHED-TTL:P3D
REFRESH-INTERVAL:P3D
CALSCALE:GREGORIAN
BEGIN:VEVENT
DTSTART;VALUE=DATE:20090918
DTEND;VALUE=DATE:20090920
TRANSP:TRANSPARENT
X-MICROSOFT-CDO-ALLDAYEVENT:TRUE
SUMMARY:The South Padre Island Seafood and Music Festival
DESCRIPTION:The South Padre Island Seafood and Music Festival is a two day\, music\, food\, and arts event located on beautiful South Padre Island\, Texas. Proceeds benefit Sea Turtle Inc. whose work helps protect\, rehabilitate and conserve endangered sea turtles.  The festival will be held at the South Padre Island Convention Center Outdoor Stages. Over 20 bands for your entertainment.  The 2009 festival is scheduled for Friday\, September 18th from 6:00pm to 2:00am and Saturday\, September 19th from 11:00am to 2:00am.  Ticket prices $20 a day in advance\, $40 weekend pass and $300 VIP Pass.  Tickets available through www.FrontGateTickets.com or call 512.389.0315.  Tickets also available at these additional locations: Island Native Surf Shop on South Padre Island\, South Padre Island Visitor's Center\, Isla Grand Resort on South Padre Island\, Harlingen Chamber of Commerce\, Brownsville Chamber of Commerce and McAllen Chamber of Commerce.
X-ALT-DESC;FMTTYPE=text/html:The South Padre Island Seafood and Music Festival is a two day\, music\, food\, and arts event located on beautiful South Padre Island\, Texas. Proceeds benefit Sea Turtle Inc. whose work helps protect\, rehabilitate and conserve endangered sea turtles.  The festival will be held at the South Padre Island Convention Center Outdoor Stages. Over 20 bands for your entertainment.  The 2009 festival is scheduled for Friday\, September 18th from 6:00pm to 2:00am and Saturday\, September 19th from 11:00am to 2:00am.  Ticket prices $20 a day in advance\, $40 weekend pass and $300 VIP Pass.  Tickets available through www.FrontGateTickets.com or call 512.389.0315.  Tickets also available at these additional locations: Island Native Surf Shop on South Padre Island\, South Padre Island Visitor's Center\, Isla Grand Resort on South Padre Island\, Harlingen Chamber of Commerce\, Brownsville Chamber of Commerce and McAllen Chamber of Commerce.\n\n\n
LOCATION:
UID:e.1828.2056
SEQUENCE:3
DTSTAMP:20260422T100559Z
URL:https://business.harlingen.com/events/details/the-south-padre-island-seafood-and-music-festival-09-18-2009-2056
END:VEVENT

END:VCALENDAR
