BEGIN:VCALENDAR
VERSION:2.0
PRODID:-//ChamberMaster//Event Calendar 2.0//EN
METHOD:PUBLISH
X-PUBLISHED-TTL:P3D
REFRESH-INTERVAL:P3D
CALSCALE:GREGORIAN
BEGIN:VEVENT
DTSTART:20130115T153000Z
DTEND:20130115T173000Z
X-MICROSOFT-CDO-ALLDAYEVENT:FALSE
SUMMARY:"The South Texas Fishing Industry"
DESCRIPTION:Center for Creative Retirement series. Fisheries biologist and Lower Laguna Madre team leader Mark Lingo will discuss the how\, what\, and why of Coastal Fisheries sampling and the trends and status of commercial and recreational fish in the lower Laguna Madre. For information call Maggie at Harlingen Chamber of Commerce 956-423-5440.
X-ALT-DESC;FMTTYPE=text/html:Center for Creative Retirement series. Fisheries biologist and Lower Laguna Madre team leader Mark Lingo will discuss the how\, what\, and why of Coastal Fisheries sampling and the trends and status of commercial and recreational fish in the lower Laguna Madre. For information call Maggie at Harlingen Chamber of Commerce 956-423-5440.
LOCATION:
UID:e.1828.3991
SEQUENCE:3
DTSTAMP:20260420T101710Z
URL:https://business.harlingen.com/events/details/the-south-texas-fishing-industry-01-15-2013-3991
END:VEVENT

END:VCALENDAR
