BEGIN:VCALENDAR
VERSION:2.0
PRODID:-//ChamberMaster//Event Calendar 2.0//EN
METHOD:PUBLISH
X-PUBLISHED-TTL:P3D
REFRESH-INTERVAL:P3D
CALSCALE:GREGORIAN
BEGIN:VEVENT
DTSTART:20120128T133000Z
DTEND:20120128T133000Z
X-MICROSOFT-CDO-ALLDAYEVENT:FALSE
SUMMARY:The South Texas Sizzler 5k and 10k
DESCRIPTION:Registration for the race is available online at www.ValleyBaptist.net\, or at www.Active.com. Participants can also register at an "Exhibitor's Expo" that will take place on Friday\, Jan. 27 from 4 p.m. to 6 p.m. in the East Tower Lobby at Valley Baptist Medical Center-Harlingen. Same-day registration will be held Saturday morning between 6:30 a.m. and 7:30 a.m. at the Harlingen Soccer Complex. \n\nThe event -- which is expected to attract hundreds of Valley runners and walkers -- will benefit the Miracle Kids of South Texas\, which has been providing free sports activities for disabled and special-needs children ages 5 to 15 in the Valley for the past nine years. T-shirts guaranteed to the first 500 registrants!\nBenefiting Miracle Kids of South Texas. Register online: http://www.valleybaptist.net or www.active.com Benefiting Miracle Kids of South Texas. For more information call 956-389-1614 www.valleybaptist.net/events/sizzler
X-ALT-DESC;FMTTYPE=text/html:Registration for the race is available online at www.ValleyBaptist.net\, or at www.Active.com. Participants can also register at an "Exhibitor's Expo" that will take place on Friday\, Jan. 27 from 4 p.m. to 6 p.m. in the East Tower Lobby at Valley Baptist Medical Center-Harlingen. Same-day registration will be held Saturday morning between 6:30 a.m. and 7:30 a.m. at the Harlingen Soccer Complex. \n\nThe event -- which is expected to attract hundreds of Valley runners and walkers -- will benefit the Miracle Kids of South Texas\, which has been providing free sports activities for disabled and special-needs children ages 5 to 15 in the Valley for the past nine years. T-shirts guaranteed to the first 500 registrants!\nBenefiting Miracle Kids of South Texas. Register online: http://www.valleybaptist.net or www.active.com Benefiting Miracle Kids of South Texas. For more information call 956-389-1614 www.valleybaptist.net/events/sizzler\n
LOCATION:
UID:e.1828.3282
SEQUENCE:3
DTSTAMP:20260420T225613Z
URL:https://business.harlingen.com/events/details/the-south-texas-sizzler-5k-and-10k-01-28-2012-3282
END:VEVENT

END:VCALENDAR
