BEGIN:VCALENDAR
VERSION:2.0
PRODID:-//ChamberMaster//Event Calendar 2.0//EN
METHOD:PUBLISH
X-PUBLISHED-TTL:P3D
REFRESH-INTERVAL:P3D
CALSCALE:GREGORIAN
BEGIN:VEVENT
DTSTART:20110629T150000Z
DTEND:20110629T150000Z
X-MICROSOFT-CDO-ALLDAYEVENT:FALSE
SUMMARY:The Studio-Modern Photography
DESCRIPTION:Come celebrate the grand opening of The Studio-Modern Photography with a ribbon cutting ceremony. Get a chance to look around the studio and check out the their specials. Beverages and snacks will be served.
X-ALT-DESC;FMTTYPE=text/html:Come celebrate the grand opening of The Studio-Modern Photography with a ribbon cutting ceremony. Get a chance to look around the studio and check out the their specials. Beverages and snacks will be served.   \n
LOCATION:
UID:e.1828.3092
SEQUENCE:3
DTSTAMP:20260421T080948Z
URL:https://business.harlingen.com/events/details/the-studio-modern-photography-06-29-2011-3092
END:VEVENT

END:VCALENDAR
