BEGIN:VCALENDAR
VERSION:2.0
PRODID:-//ChamberMaster//Event Calendar 2.0//EN
METHOD:PUBLISH
X-PUBLISHED-TTL:P3D
REFRESH-INTERVAL:P3D
CALSCALE:GREGORIAN
BEGIN:VEVENT
DTSTART:20100306T010000Z
DTEND:20100306T010000Z
X-MICROSOFT-CDO-ALLDAYEVENT:FALSE
SUMMARY:The Ultimate Neil Diamond Tribute Featuring Keith Allynn
DESCRIPTION:Keith Allynn has entertained audiences for over 20 years.  At age 21 he discovered his musical abilities when he preformed an Elvis song at karaoke.  In 2004\, wanting to impress a girl who loved Neil Diamond\, Keith learned Hello Again.  Then\, with his best Neil voice\, he sang it to her over the phone. He won the girl\, Diana Lynn\, and Hello Again  remains 'their' song.  Keith has since perfected his Neil Diamond Tribute. Diana now performs You Don't Bring Me Flowers (Neil Diamond/ Barbara Streisand) with Keith during his shows.  Be sure and check out their son\, Bobby Darin\, who holds the title as The World's Youngest Elvis. Bobby\, age 4\, began opening for his parent's show at age 20 months.  Ticket prices $10 in advance and $12.50 at the door.  Seating is limited!  Purchase your tickets now by calling 417-464-8497.
X-ALT-DESC;FMTTYPE=text/html:Keith Allynn has entertained audiences for over 20 years.  At age 21 he discovered his musical abilities when he preformed an Elvis song at karaoke.  In 2004\, wanting to impress a girl who loved Neil Diamond\, Keith learned Hello Again.  Then\, with his best Neil voice\, he sang it to her over the phone. He won the girl\, Diana Lynn\, and Hello Again  remains 'their' song.  Keith has since perfected his Neil Diamond Tribute. Diana now performs You Don't Bring Me Flowers (Neil Diamond/ Barbara Streisand) with Keith during his shows.  Be sure and check out their son\, Bobby Darin\, who holds the title as The World's Youngest Elvis. Bobby\, age 4\, began opening for his parent's show at age 20 months.  Ticket prices $10 in advance and $12.50 at the door.  Seating is limited!  Purchase your tickets now by calling 417-464-8497.\n\n
LOCATION:On North Loop 499 across from Lee Means Elementary School
UID:e.1828.2413
SEQUENCE:3
DTSTAMP:20260422T080858Z
URL:https://business.harlingen.com/events/details/the-ultimate-neil-diamond-tribute-featuring-keith-allynn-03-05-2010-2413
END:VEVENT

END:VCALENDAR
