BEGIN:VCALENDAR
VERSION:2.0
PRODID:-//ChamberMaster//Event Calendar 2.0//EN
METHOD:PUBLISH
X-PUBLISHED-TTL:P3D
REFRESH-INTERVAL:P3D
CALSCALE:GREGORIAN
BEGIN:VEVENT
DTSTART:20100619T170000Z
DTEND:20100619T210000Z
X-MICROSOFT-CDO-ALLDAYEVENT:FALSE
SUMMARY:The University of Cosmetology Arts and Sciences Specialty Course Celebration
DESCRIPTION:The University of Cosmetology Arts and Sciences in Harlingen would like to invite you to our specialty course celebration on June 19\, 2010 from 12:00 p.m. to 4:00 p.m.  Courses for Manicuring: Nail Art Techniques\, Airbrushing\, Spa Manicures\, Spa Pedicures\, Acrylic/ UV Gel Enhancements and Customized Nail Services.  Free hand scrub treatment (on a first come\, first serve basis).  Esthetics courses include:  Therma Skin Treatment\, Diamond Dermabrasion\, Permanent Eyelash Ext.\, Theatrical Makeup\, Facial Stone Therapy and Aromatherapy.  Free skin mapping and personalized consultations!  Hot Dogs ! Drinks! Music! Raffle!  Financial Aid!  For more information\, please call (956) 412-1212.
X-ALT-DESC;FMTTYPE=text/html:The University of Cosmetology Arts and Sciences in Harlingen would like to invite you to our specialty course celebration on June 19\, 2010 from 12:00 p.m. to 4:00 p.m.  Courses for Manicuring: Nail Art Techniques\, Airbrushing\, Spa Manicures\, Spa Pedicures\, Acrylic/ UV Gel Enhancements and Customized Nail Services.  Free hand scrub treatment (on a first come\, first serve basis).  Esthetics courses include:  Therma Skin Treatment\, Diamond Dermabrasion\, Permanent Eyelash Ext.\, Theatrical Makeup\, Facial Stone Therapy and Aromatherapy.  Free skin mapping and personalized consultations!  Hot Dogs ! Drinks! Music! Raffle!  Financial Aid!  For more information\, please call (956) 412-1212.
LOCATION:
UID:e.1828.2551
SEQUENCE:3
DTSTAMP:20260422T032212Z
URL:https://business.harlingen.com/events/details/the-university-of-cosmetology-arts-and-sciences-specialty-course-celebration-06-19-2010-2551
END:VEVENT

END:VCALENDAR
