BEGIN:VCALENDAR
VERSION:2.0
PRODID:-//ChamberMaster//Event Calendar 2.0//EN
METHOD:PUBLISH
X-PUBLISHED-TTL:P3D
REFRESH-INTERVAL:P3D
CALSCALE:GREGORIAN
BEGIN:VEVENT
DTSTART:20120712T230000Z
DTEND:20120713T020000Z
X-MICROSOFT-CDO-ALLDAYEVENT:FALSE
SUMMARY:The University of Phoenix Supports Operation Interdependence McAllen
DESCRIPTION:The University of Phoenix Supports Operation Interdependence McAllen.  To show support for the troops serving on the front lines\, military families\, veterans\, the University of Phoenix will host a military event as part of Operation Interdependence on July 12th from 6:00 p.m. to 9:00 p.m.  The ceremony\, which will be held at the University's campus at 4201 South Shary Road in Mission\, will also recognize local organizations and leaders who have led Operation Interdependence in McAllen.  Veterans\, active duty members and families will share their stories of receiving care packages and support while they or loved ones served overseas.\n\nThe University of Phoenix McAllen Campus staff and faculty members will make a donation of $5\,000 to Operation Interdependence.  The event is free and open to the public.  For more information\,  contact Dawn Merritt at (702) 739-9933 ext. 222 or e-mail at dawnm@thefirmpr.com.
X-ALT-DESC;FMTTYPE=text/html:The University of Phoenix Supports Operation Interdependence McAllen.  To show support for the troops serving on the front lines\, military families\, veterans\, the University of Phoenix will host a military event as part of Operation Interdependence on July 12th from 6:00 p.m. to 9:00 p.m.  The ceremony\, which will be held at the University's campus at 4201 South Shary Road in Mission\, will also recognize local organizations and leaders who have led Operation Interdependence in McAllen.  Veterans\, active duty members and families will share their stories of receiving care packages and support while they or loved ones served overseas.\n\nThe University of Phoenix McAllen Campus staff and faculty members will make a donation of $5\,000 to Operation Interdependence.  The event is free and open to the public.  For more information\,  contact Dawn Merritt at (702) 739-9933 ext. 222 or e-mail at dawnm@thefirmpr.com.
LOCATION:
UID:e.1828.3881
SEQUENCE:3
DTSTAMP:20260420T132048Z
URL:https://business.harlingen.com/events/details/the-university-of-phoenix-supports-operation-interdependence-mcallen-07-12-2012-3881
END:VEVENT

END:VCALENDAR
