BEGIN:VCALENDAR
VERSION:2.0
PRODID:-//ChamberMaster//Event Calendar 2.0//EN
METHOD:PUBLISH
X-PUBLISHED-TTL:P3D
REFRESH-INTERVAL:P3D
CALSCALE:GREGORIAN
BEGIN:VEVENT
DTSTART;VALUE=DATE:20100122
DTEND;VALUE=DATE:20100125
TRANSP:TRANSPARENT
X-MICROSOFT-CDO-ALLDAYEVENT:TRUE
SUMMARY:The Women of St. Alban's Episcopal Church Annual Antique Show
DESCRIPTION:The Women of St. Alban's annual antique show will be held January 22-23-24 at the Casa de Amistad\, 1204 Fair Park Blvd. in Harlingen.  Hours Friday & Saturday 10 am to 6 pm & Sunday Noon to 5 pm.  $5.00 admission good for all three days.  35 Dealers from all over the country with Quality Antiques for sale.  For more information\, please contact  B. J. Hennessee at St. Alban's Episcopal Church at 956-428-2305.
X-ALT-DESC;FMTTYPE=text/html:The Women of St. Alban's annual antique show will be held January 22-23-24 at the Casa de Amistad\, 1204 Fair Park Blvd. in Harlingen.  Hours Friday & Saturday 10 am to 6 pm & Sunday Noon to 5 pm.  $5.00 admission good for all three days.  35 Dealers from all over the country with Quality Antiques for sale.  For more information\, please contact  B. J. Hennessee at St. Alban's Episcopal Church at 956-428-2305.\n
LOCATION:
UID:e.1828.2301
SEQUENCE:3
DTSTAMP:20260422T112558Z
URL:https://business.harlingen.com/events/details/the-women-of-st-alban-s-episcopal-church-annual-antique-show-01-22-2010-2301
END:VEVENT

END:VCALENDAR
