BEGIN:VCALENDAR
VERSION:2.0
PRODID:-//ChamberMaster//Event Calendar 2.0//EN
METHOD:PUBLISH
X-PUBLISHED-TTL:P3D
REFRESH-INTERVAL:P3D
CALSCALE:GREGORIAN
BEGIN:VEVENT
DTSTART:20120529T223000Z
DTEND:20120529T223000Z
X-MICROSOFT-CDO-ALLDAYEVENT:FALSE
SUMMARY:Thirty-One Gifts/Ribbon Cutting
DESCRIPTION:Come join in the fun as we celebrate Thirty-One Gifts!  If you like monogrammed totes\, bags\, or just like to be organized\, you won't want to miss this!  Refreshments will be served and there will be door prizes!
X-ALT-DESC;FMTTYPE=text/html:Come join in the fun as we celebrate Thirty-One Gifts!  If you like monogrammed totes\, bags\, or just like to be organized\, you won't want to miss this!  Refreshments will be served and there will be door prizes! \n
LOCATION:
UID:e.1828.3651
SEQUENCE:3
DTSTAMP:20260420T150811Z
URL:https://business.harlingen.com/events/details/thirty-one-gifts-ribbon-cutting-05-29-2012-3651
END:VEVENT

END:VCALENDAR
