BEGIN:VCALENDAR
VERSION:2.0
PRODID:-//ChamberMaster//Event Calendar 2.0//EN
METHOD:PUBLISH
X-PUBLISHED-TTL:P3D
REFRESH-INTERVAL:P3D
CALSCALE:GREGORIAN
BEGIN:VEVENT
DTSTART:20100121T160000Z
DTEND:20100123T220000Z
X-MICROSOFT-CDO-ALLDAYEVENT:FALSE
SUMMARY:Tip O' Texas Twister Shop Hop
DESCRIPTION:A shopping event with local small business ranging from quilting\, stitchery\, stained glass\, fine arts\, decorative painting\, and clothing.\nFundraiser for Loaves and Fishes of Harlingen.
X-ALT-DESC;FMTTYPE=text/html:A shopping event with local small business ranging from quilting\, stitchery\, stained glass\, fine arts\, decorative painting\, and clothing.\nFundraiser for Loaves and Fishes of Harlingen.
LOCATION:10 shops located on map provided at each shop. Good starting place: Jackson Street at Antique Emporium\, D'Arte Centre or Cossey Creations.
UID:e.1828.2180
SEQUENCE:3
DTSTAMP:20260422T112223Z
URL:https://business.harlingen.com/events/details/tip-o-texas-twister-shop-hop-01-21-2010-2180
END:VEVENT

END:VCALENDAR
