BEGIN:VCALENDAR
VERSION:2.0
PRODID:-//ChamberMaster//Event Calendar 2.0//EN
METHOD:PUBLISH
X-PUBLISHED-TTL:P3D
REFRESH-INTERVAL:P3D
CALSCALE:GREGORIAN
BEGIN:VEVENT
DTSTART:20110914T140000Z
DTEND:20110914T160000Z
X-MICROSOFT-CDO-ALLDAYEVENT:FALSE
SUMMARY:Tips on Marketing and Advertising
DESCRIPTION:Tips on Marketing & Advertising featuring: David Watkins from MPC Studios\, Colleen Willis from Valley Central.com & Gabriel Puente From rgVision Magazine. Free Session!
X-ALT-DESC;FMTTYPE=text/html:Tips on Marketing & Advertising featuring: David Watkins from MPC Studios\, Colleen Willis from Valley Central.com & Gabriel Puente From rgVision Magazine. Free Session!
LOCATION:
UID:e.1828.3154
SEQUENCE:3
DTSTAMP:20260421T051217Z
URL:https://business.harlingen.com/events/details/tips-on-marketing-and-advertising-09-14-2011-3154
END:VEVENT

END:VCALENDAR
