BEGIN:VCALENDAR
VERSION:2.0
PRODID:-//ChamberMaster//Event Calendar 2.0//EN
METHOD:PUBLISH
X-PUBLISHED-TTL:P3D
REFRESH-INTERVAL:P3D
CALSCALE:GREGORIAN
BEGIN:VEVENT
DTSTART:20111211T000000Z
DTEND:20111211T000000Z
X-MICROSOFT-CDO-ALLDAYEVENT:FALSE
SUMMARY:"Tis The Season" Christmas Concert
DESCRIPTION:The Harlingen Community Band presents "Tis The Season"\, a concert of favorite Christmas music. Tickets at the door: $10.00 adults\, Students grade K-12th\, $5.00
X-ALT-DESC;FMTTYPE=text/html:The Harlingen Community Band presents "Tis The Season"\, a concert of favorite Christmas music. Tickets at the door: $10.00 adults\, Students grade K-12th\, $5.00 
LOCATION:
UID:e.1828.3284
SEQUENCE:3
DTSTAMP:20260420T225618Z
URL:https://business.harlingen.com/events/details/tis-the-season-christmas-concert-12-10-2011-3284
END:VEVENT

END:VCALENDAR
