BEGIN:VCALENDAR
VERSION:2.0
PRODID:-//ChamberMaster//Event Calendar 2.0//EN
METHOD:PUBLISH
X-PUBLISHED-TTL:P3D
REFRESH-INTERVAL:P3D
CALSCALE:GREGORIAN
BEGIN:VEVENT
DTSTART:20111220T200000Z
DTEND:20111220T230000Z
X-MICROSOFT-CDO-ALLDAYEVENT:FALSE
SUMMARY:Tito Resendez State Farm Annual Christmas Giveaway
DESCRIPTION:HCISD Hourly Employees are invited to the Tito Resendez Annual Christmas Giveaway! Come pickup your FREE TURKEY! Turkeys given to the first 500 with a certified voucher distributed by HCISD. We look forward to seeing you there! Merry Christmas!\n?	Date: Tuesday\, the  20th of December\n?	Time: 2pm to 5pm\n?	Location: Tito Resendez State Farm\n        922 E Harrison \n        Harlingen\, TX 78550\n?	Event Coordinator Contact Information:\nAshley E. Weldon- Executive Asst. & Marketing Coordinator\nBus Phone: (956) 423-TITO\nFax (956) 423- 8765\nEmail: ashley.weldon.rnzc@statefarm.com
X-ALT-DESC;FMTTYPE=text/html:\nHCISD Hourly Employees are invited to the Tito Resendez Annual Christmas Giveaway! Come pickup your FREE TURKEY! Turkeys given to the first 500 with a certified voucher distributed by HCISD. We look forward to seeing you there! Merry Christmas!\n?	Date: Tuesday\, the  20th of December\n?	Time: 2pm to 5pm\n?	Location: Tito Resendez State Farm\n        922 E Harrison \n        Harlingen\, TX 78550\n?	Event Coordinator Contact Information:\nAshley E. Weldon- Executive Asst. & Marketing Coordinator\nBus Phone: (956) 423-TITO\nFax (956) 423- 8765\nEmail: ashley.weldon.rnzc@statefarm.com\n
LOCATION:Location: Tito Resendez State Farm 922 E Harrison Harlingen\, TX 78550 Across from St. Anthony's Church
UID:e.1828.3336
SEQUENCE:3
DTSTAMP:20260420T225742Z
URL:https://business.harlingen.com/events/details/tito-resendez-state-farm-annual-christmas-giveaway-12-20-2011-3336
END:VEVENT

END:VCALENDAR
