BEGIN:VCALENDAR
VERSION:2.0
PRODID:-//ChamberMaster//Event Calendar 2.0//EN
METHOD:PUBLISH
X-PUBLISHED-TTL:P3D
REFRESH-INTERVAL:P3D
CALSCALE:GREGORIAN
BEGIN:VEVENT
DTSTART:20111019T140000Z
DTEND:20111019T160000Z
X-MICROSOFT-CDO-ALLDAYEVENT:FALSE
SUMMARY:Top Legal Tips/ Legal Issues For Small Business
DESCRIPTION:Legal Issues For Small Business join Attorney Amber Van Schuyver from Texas Rio Grande Legal Aid as she covers legal duties important to your business. Topics Include Business Structure\, Negotiating a Lease\,Signing Contracts\, Hiring Employees\, Workplace Safety\, Protecting Intellectual Property. Registration required RSVP 956-423-5440. No Fee.\n\nMaking Dreams Come True\, One Business At A Time!\nThe University of Texas Pan American Small Business Development Center "A Component of The Business Development & Innovation Group" www.utpa.edu/sbdc
X-ALT-DESC;FMTTYPE=text/html:Legal Issues For Small Business join Attorney Amber Van Schuyver from Texas Rio Grande Legal Aid as she covers legal duties important to your business. Topics Include Business Structure\, Negotiating a Lease\,Signing Contracts\, Hiring Employees\, Workplace Safety\, Protecting Intellectual Property. Registration required RSVP 956-423-5440. No Fee.\n\nMaking Dreams Come True\, One Business At A Time!\nThe University of Texas Pan American Small Business Development Center "A Component of The Business Development & Innovation Group" www.utpa.edu/sbdc
LOCATION:
UID:e.1828.3190
SEQUENCE:3
DTSTAMP:20260421T021603Z
URL:https://business.harlingen.com/events/details/top-legal-tips-legal-issues-for-small-business-10-19-2011-3190
END:VEVENT

END:VCALENDAR
