BEGIN:VCALENDAR
VERSION:2.0
PRODID:-//ChamberMaster//Event Calendar 2.0//EN
METHOD:PUBLISH
X-PUBLISHED-TTL:P3D
REFRESH-INTERVAL:P3D
CALSCALE:GREGORIAN
BEGIN:VEVENT
DTSTART:20120320T190000Z
DTEND:20120320T210000Z
X-MICROSOFT-CDO-ALLDAYEVENT:FALSE
SUMMARY:Top Legal Tips/Legal Issues for Small Business Seminar
DESCRIPTION:Join Attorney Amber Van Schuyver from Texas Rio Grande Legal Aid as she covers legal duties important to your business. Topics Include: Business Structures\, Signing Contracts\, Negotiating a Lease\, Hiring Employees\, Work place Safety\, Protection Intellectual Property. UT Pan Am Small Business Development Council\, Texas Rio Grande Legal Aid and the Chamber have partnered again on this FREE semianr. Registration required RSVP To: 956-423-5440. Fee None.
X-ALT-DESC;FMTTYPE=text/html:Join Attorney Amber Van Schuyver from Texas Rio Grande Legal Aid as she covers legal duties important to your business. Topics Include: Business Structures\, Signing Contracts\, Negotiating a Lease\, Hiring Employees\, Work place Safety\, Protection Intellectual Property. UT Pan Am Small Business Development Council\, Texas Rio Grande Legal Aid and the Chamber have partnered again on this FREE semianr. Registration required RSVP To: 956-423-5440. Fee None. 
LOCATION:
UID:e.1828.3494
SEQUENCE:3
DTSTAMP:20260420T182359Z
URL:https://business.harlingen.com/events/details/top-legal-tips-legal-issues-for-small-business-seminar-03-20-2012-3494
END:VEVENT

END:VCALENDAR
