BEGIN:VCALENDAR
VERSION:2.0
PRODID:-//ChamberMaster//Event Calendar 2.0//EN
METHOD:PUBLISH
X-PUBLISHED-TTL:P3D
REFRESH-INTERVAL:P3D
CALSCALE:GREGORIAN
BEGIN:VEVENT
DTSTART:20100505T160000Z
DTEND:20100505T190000Z
X-MICROSOFT-CDO-ALLDAYEVENT:FALSE
SUMMARY:Top Secret Security Briefing
DESCRIPTION:You're invited to attend a Top Secret Security Briefing that will arm you with valuable information to help move your security in the right direction. Security Depot\, a First Alert Professional authorized dealer\, has joined forces with Honeywell to share information about complete security solutions to protect your most valuable assets – your employees\, customers\, merchandise and property.\nJoin us May 5 for a lunch and learn featuring Carla McCaleb of Security Depot\, Doug Marshall (Honeywell Intrusion District Manager)\, Steve Means (Honeywell Video Regional Manager) and Troy Riedel (Honeywell Access Regional Manager).  They will cover scenarios that property managers face in managing security and highlight solutions that have been implemented to address those issues.  This will be an open forum for discussion.
X-ALT-DESC;FMTTYPE=text/html:You're invited to attend a Top Secret Security Briefing that will arm you with valuable information to help move your security in the right direction. Security Depot\, a First Alert Professional authorized dealer\, has joined forces with Honeywell to share information about complete security solutions to protect your most valuable assets – your employees\, customers\, merchandise and property.\nJoin us May 5 for a lunch and learn featuring Carla McCaleb of Security Depot\, Doug Marshall (Honeywell Intrusion District Manager)\, Steve Means (Honeywell Video Regional Manager) and Troy Riedel (Honeywell Access Regional Manager).  They will cover scenarios that property managers face in managing security and highlight solutions that have been implemented to address those issues.  This will be an open forum for discussion.\n
LOCATION:From expy 83 exit Texas Blvd.\, turn south onto Texas Blvd.\, turn right (west) at W. Railroad St.\, destination will be on the left (south) side of the street.
UID:e.1828.2500
SEQUENCE:3
DTSTAMP:20260422T061357Z
URL:https://business.harlingen.com/events/details/top-secret-security-briefing-05-05-2010-2500
END:VEVENT

END:VCALENDAR
