BEGIN:VCALENDAR
VERSION:2.0
PRODID:-//ChamberMaster//Event Calendar 2.0//EN
METHOD:PUBLISH
X-PUBLISHED-TTL:P3D
REFRESH-INTERVAL:P3D
CALSCALE:GREGORIAN
BEGIN:VEVENT
DTSTART:20120209T233000Z
DTEND:20120209T233000Z
X-MICROSOFT-CDO-ALLDAYEVENT:FALSE
SUMMARY:Total Rehab of Harlingen Mixer
DESCRIPTION:Join us at Total Rehab's "Sweets & Treats" business after hours mixer celebrating 8 years of service. Come learn about all the services offered while enjoying champagne & chocolate. Great opportunity to network and meet new people.
X-ALT-DESC;FMTTYPE=text/html:Join us at Total Rehab's "Sweets & Treats" business after hours mixer celebrating 8 years of service. Come learn about all the services offered while enjoying champagne & chocolate. Great opportunity to network and meet new people. \n
LOCATION:
UID:e.1828.3384
SEQUENCE:3
DTSTAMP:20260420T200552Z
URL:https://business.harlingen.com/events/details/total-rehab-of-harlingen-mixer-02-09-2012-3384
END:VEVENT

END:VCALENDAR
