BEGIN:VCALENDAR
VERSION:2.0
PRODID:-//ChamberMaster//Event Calendar 2.0//EN
METHOD:PUBLISH
X-PUBLISHED-TTL:P3D
REFRESH-INTERVAL:P3D
CALSCALE:GREGORIAN
BEGIN:VEVENT
DTSTART:20110119T170000Z
DTEND:20110119T210000Z
X-MICROSOFT-CDO-ALLDAYEVENT:FALSE
SUMMARY:"Touch The Mayan Moon" book signing by author Susan LeMiles Holmes
DESCRIPTION:" A surprising  twisting tale set in The Rio Grande Valley that redefines who is strong and who is weak."  Reading from 2-3PM. Book signing by author Susan LeMiles Holmes TSTC's Director of Career Services.  Books will be available for purchase.
X-ALT-DESC;FMTTYPE=text/html:" A surprising  twisting tale set in The Rio Grande Valley that redefines who is strong and who is weak."  Reading from 2-3PM. Book signing by author Susan LeMiles Holmes TSTC's Director of Career Services.  Books will be available for purchase. 
LOCATION:TSTC Library Resource Center
UID:e.1828.2888
SEQUENCE:3
DTSTAMP:20260421T171842Z
URL:https://business.harlingen.com/events/details/touch-the-mayan-moon-book-signing-by-author-susan-lemiles-holmes-01-19-2011-2888
END:VEVENT

END:VCALENDAR
