BEGIN:VCALENDAR
VERSION:2.0
PRODID:-//ChamberMaster//Event Calendar 2.0//EN
METHOD:PUBLISH
X-PUBLISHED-TTL:P3D
REFRESH-INTERVAL:P3D
CALSCALE:GREGORIAN
BEGIN:VEVENT
DTSTART:20100308T143000Z
DTEND:20100308T210000Z
X-MICROSOFT-CDO-ALLDAYEVENT:FALSE
SUMMARY:Tourism Summit on Security and Marketing along the Border
DESCRIPTION:The City of Harlingen and Harlingen CVB will host a summit on Tourism Security and Marketing along the Border - \nFacing Our Borders Security Challenges: A Summit on Tourism Security & Marketing for Communities along the U.S./Mexico Border.  FREE admission!  Presented by Dr. Peter Tarlow\, founder and president of Tourism & More Inc. (T&M) and the executive director of the Texas Chapter of the Travel and Tourism Research Association (TTRA) and Martin Gonzalez\, Director of the Mexico Tourism Board (MTB) office in Houston\, Texas.  Seating is limited. RSVP by March 3\, 2010 to Nydia at nydia@visitharlingentexas.com or call (956) 423-5565 ext. 219.
X-ALT-DESC;FMTTYPE=text/html:The City of Harlingen and Harlingen CVB will host a summit on Tourism Security and Marketing along the Border - \nFacing Our Borders Security Challenges: A Summit on Tourism Security & Marketing for Communities along the U.S./Mexico Border.  FREE admission!  Presented by Dr. Peter Tarlow\, founder and president of Tourism & More Inc. (T&M) and the executive director of the Texas Chapter of the Travel and Tourism Research Association (TTRA) and Martin Gonzalez\, Director of the Mexico Tourism Board (MTB) office in Houston\, Texas.  Seating is limited. RSVP by March 3\, 2010 to Nydia at nydia@visitharlingentexas.com or call (956) 423-5565 ext. 219.\n \n\n
LOCATION:
UID:e.1828.2386
SEQUENCE:3
DTSTAMP:20260422T081017Z
URL:https://business.harlingen.com/events/details/tourism-summit-on-security-and-marketing-along-the-border-03-08-2010-2386
END:VEVENT

END:VCALENDAR
