BEGIN:VCALENDAR
VERSION:2.0
PRODID:-//ChamberMaster//Event Calendar 2.0//EN
METHOD:PUBLISH
X-PUBLISHED-TTL:P3D
REFRESH-INTERVAL:P3D
CALSCALE:GREGORIAN
BEGIN:VEVENT
DTSTART:20101121T000000Z
DTEND:20101121T000000Z
X-MICROSOFT-CDO-ALLDAYEVENT:FALSE
SUMMARY:Toys for Tots Basketball Game Toy Fundraiser
DESCRIPTION:A basketball game between the U.S. Marines and Men from Word In Season Church.  Entrance fee to event is one new toy or monetary donation per individual.  Toys and donations will go toward Marine's Toys for Tots drive.
X-ALT-DESC;FMTTYPE=text/html:A basketball game between the U.S. Marines and Men from Word In Season Church.  Entrance fee to event is one new toy or monetary donation per individual.  Toys and donations will go toward Marine's Toys for Tots drive.
LOCATION:3700 E. Harrison. Enter though Valley Baptist Mission grounds\, go straight to the back\, turn into parking lot on the right hand side. The gym is on the back right hand corner.
UID:e.1828.3202
SEQUENCE:3
DTSTAMP:20260421T190704Z
URL:https://business.harlingen.com/events/details/toys-for-tots-basketball-game-toy-fundraiser-11-20-2010-3202
END:VEVENT

END:VCALENDAR
