BEGIN:VCALENDAR
VERSION:2.0
PRODID:-//ChamberMaster//Event Calendar 2.0//EN
METHOD:PUBLISH
X-PUBLISHED-TTL:P3D
REFRESH-INTERVAL:P3D
CALSCALE:GREGORIAN
BEGIN:VEVENT
DTSTART:20100515T000000Z
DTEND:20100515T000000Z
X-MICROSOFT-CDO-ALLDAYEVENT:FALSE
SUMMARY:Tracy Lawrence in Concert
DESCRIPTION:Smokey Joe Production and Ivan Entertainment presents Tracy Lawrence with special guests\, The Marshall Law Band & Ricky Welch.  Pre-sale tickets $20.  $25 at the door.  Doors open at 7 pm.  Show begins at 8 pm.  For table sponsorship opportunities\, please call 956-279-6324 or 956-878-9801.  Part of the proceeds will benefit Ronald McDonald House Charities RGV.  Pre-sale tickets may be purchased at The Boot Jack Valleywide & Johnny's True Value.  For further concert information\, please call 956-536-0423.  (Bring your own bottle!)
X-ALT-DESC;FMTTYPE=text/html:Smokey Joe Production and Ivan Entertainment presents Tracy Lawrence with special guests\, The Marshall Law Band & Ricky Welch.  Pre-sale tickets $20.  $25 at the door.  Doors open at 7 pm.  Show begins at 8 pm.  For table sponsorship opportunities\, please call 956-279-6324 or 956-878-9801.  Part of the proceeds will benefit Ronald McDonald House Charities RGV.  Pre-sale tickets may be purchased at The Boot Jack Valleywide & Johnny's True Value.  For further concert information\, please call 956-536-0423.  (Bring your own bottle!)
LOCATION:Next to Whalen's Furniture in San Benito.
UID:e.1828.2505
SEQUENCE:3
DTSTAMP:20260422T050110Z
URL:https://business.harlingen.com/events/details/tracy-lawrence-in-concert-05-14-2010-2505
END:VEVENT

END:VCALENDAR
