BEGIN:VCALENDAR
VERSION:2.0
PRODID:-//ChamberMaster//Event Calendar 2.0//EN
METHOD:PUBLISH
X-PUBLISHED-TTL:P3D
REFRESH-INTERVAL:P3D
CALSCALE:GREGORIAN
BEGIN:VEVENT
DTSTART:20100326T153000Z
DTEND:20100326T163000Z
X-MICROSOFT-CDO-ALLDAYEVENT:FALSE
SUMMARY:Tree Dedication in Memory of James R. Matz
DESCRIPTION:You are cordially invited to attend a Centennial Tree Dediction in memory of James R. Matz.  Guest speaker will be Mrs. James R. Matz.  Sponsored by the Town & Country Garden Club.  Come help us celebrate this Centennnial event.
X-ALT-DESC;FMTTYPE=text/html:You are cordially invited to attend a Centennial Tree Dediction in memory of James R. Matz.  Guest speaker will be Mrs. James R. Matz.  Sponsored by the Town & Country Garden Club.  Come help us celebrate this Centennnial event.
LOCATION:
UID:e.1828.2453
SEQUENCE:3
DTSTAMP:20260422T080858Z
URL:https://business.harlingen.com/events/details/tree-dedication-in-memory-of-james-r-matz-03-26-2010-2453
END:VEVENT

END:VCALENDAR
