BEGIN:VCALENDAR
VERSION:2.0
PRODID:-//ChamberMaster//Event Calendar 2.0//EN
METHOD:PUBLISH
X-PUBLISHED-TTL:P3D
REFRESH-INTERVAL:P3D
CALSCALE:GREGORIAN
BEGIN:VEVENT
DTSTART:20100220T000000Z
DTEND:20100220T020000Z
X-MICROSOFT-CDO-ALLDAYEVENT:FALSE
SUMMARY:Tribute Dinner Honoring Texas Senator Eddie Lucio\, Jr.
DESCRIPTION:Rio Grande Valley Council\, Inc.\, with the support of the RGSC Citizen's Volunteer Council\, invites you to participate in a "Salute to the Senator"\, a tribute Dinner Honoring Texas Senator Eddie Lucio\, Jr. Proceeds benefit the patients served by Rio Grande State Center.  Tickets $50.00 per person.  Table of 10 $450.00.  Tickets available at Rio Grande State Center & Harlingen Area Chamber of Commerce.  For more information\, please contact Vera Uribe at 956-364-8300.
X-ALT-DESC;FMTTYPE=text/html:Rio Grande Valley Council\, Inc.\, with the support of the RGSC Citizen's Volunteer Council\, invites you to participate in a "Salute to the Senator"\, a tribute Dinner Honoring Texas Senator Eddie Lucio\, Jr. Proceeds benefit the patients served by Rio Grande State Center.  Tickets $50.00 per person.  Table of 10 $450.00.  Tickets available at Rio Grande State Center & Harlingen Area Chamber of Commerce.  For more information\, please contact Vera Uribe at 956-364-8300. \n
LOCATION:
UID:e.1828.2325
SEQUENCE:3
DTSTAMP:20260422T094800Z
URL:https://business.harlingen.com/events/details/tribute-dinner-honoring-texas-senator-eddie-lucio-jr-02-19-2010-2325
END:VEVENT

END:VCALENDAR
