BEGIN:VCALENDAR
VERSION:2.0
PRODID:-//ChamberMaster//Event Calendar 2.0//EN
METHOD:PUBLISH
X-PUBLISHED-TTL:P3D
REFRESH-INTERVAL:P3D
CALSCALE:GREGORIAN
BEGIN:VEVENT
DTSTART;VALUE=DATE:20120322
DTEND;VALUE=DATE:20120323
TRANSP:TRANSPARENT
X-MICROSOFT-CDO-ALLDAYEVENT:TRUE
SUMMARY:TSTC Career Services
DESCRIPTION:TSTC Career Services is recruiting business community volunteers to participate in their Spring Interview Practicum. Four Interview Sessions have been scheduled: Wednesday\, March 21st and Thursday\, \nMarch 22nd at TSTC Cultural Arts Center\, Harlingen. An interview is the scariest thing these soon-to-be-graduates will face when transitioning to the work world.  As an Interview Coach\, you will perform mock interviews and give direct feedback to TSTC students.  These students need your help and there are two ways to sign up as a volunteer: \nRegister on line at hppt://harlingen.tstc.edu/placement/interviewPracticum.aspx or contact Jose Saldivar at (956) 364-4131 or email her at  Josie.Saldivar@harlingen.tstc.edu\; or contact Viviana Espinosa at (956) 364-4106 or Viviana.Espinosa@harlingen.tstc.edu.
X-ALT-DESC;FMTTYPE=text/html:TSTC Career Services is recruiting business community volunteers to participate in their Spring Interview Practicum. Four Interview Sessions have been scheduled: Wednesday\, March 21st and Thursday\, \nMarch 22nd at TSTC Cultural Arts Center\, Harlingen. An interview is the scariest thing these soon-to-be-graduates will face when transitioning to the work world.  As an Interview Coach\, you will perform mock interviews and give direct feedback to TSTC students.  These students need your help and there are two ways to sign up as a volunteer: \nRegister on line at hppt://harlingen.tstc.edu/placement/interviewPracticum.aspx or contact Jose Saldivar at (956) 364-4131 or email her at  Josie.Saldivar@harlingen.tstc.edu\; or contact Viviana Espinosa at (956) 364-4106 or Viviana.Espinosa@harlingen.tstc.edu.\n
LOCATION:
UID:e.1828.3593
SEQUENCE:3
DTSTAMP:20260420T194715Z
URL:https://business.harlingen.com/events/details/tstc-career-services-03-22-2012-3593
END:VEVENT

END:VCALENDAR
