BEGIN:VCALENDAR
VERSION:2.0
PRODID:-//ChamberMaster//Event Calendar 2.0//EN
METHOD:PUBLISH
X-PUBLISHED-TTL:P3D
REFRESH-INTERVAL:P3D
CALSCALE:GREGORIAN
BEGIN:VEVENT
DTSTART:20111027T230000Z
DTEND:20111028T020000Z
X-MICROSOFT-CDO-ALLDAYEVENT:FALSE
SUMMARY:TSTC CELEBRATES 21st ANNUAL OKTOBERFEST
DESCRIPTION:EARLY Holiday FUN @ TSTC . . .\nTSTC CELEBRATES 21st ANNUAL OKTOBERFEST\n\nTexas State Technical College students will present their 21st annual Oktoberfest fall festival at the TSTC Athletic Field (corner of Rio Hondo Road and 29th Street) in Harlingen from 6 p.m. to 9 p.m. Thursday\, October 27.\n \nThere is no admission fee and there is plenty of parking space west of the TSTC Wellness & Sports Center right off of North Loop 499. There will be a face painting\, balloon animals\, rock wall climb\, pony rides\, jousts\, kiddie ferris wheel\, a large slide\, bouncer\, sumo wrestling\, football toss\, kiddie car rode\, bungee trampoline and more. The free haunted house will be in the aerobics room of the TSTC Wellness & Sports Center. Costume contests will be held for children and adults. The Silver Spurs and Folklorico Club will provide live entertainment.\n \nBring the camera because Nickelodeon cartoon character Scooby Doo will pose for pictures with youngsters.\n \nBring your appetite\, too. Student clubs will sell pizza\, tacos\, funnel cakes\, candy apples\, cotton candy\, baked goods\, corn in a cup\, brisket sandwiches\, Frito pies\, fruit cups\, kettle corn\, hot dogs\, bistec tacos\, nachos\, hot chocolate\, chicarones with salsa and sour cream\, mud pies\, tostadas with salsa and cheese\, pickles\, hot Cheetos with cheese\, sausage on a stick\, tripa tacos\, gummy bears and spiral potatoes. Call the Student Life Office at 956.364.4304 for details.
X-ALT-DESC;FMTTYPE=text/html:EARLY Holiday FUN @ TSTC . . .\nTSTC CELEBRATES 21st ANNUAL OKTOBERFEST\n\nTexas State Technical College students will present their 21st annual Oktoberfest fall festival at the TSTC Athletic Field (corner of Rio Hondo Road and 29th Street) in Harlingen from 6 p.m. to 9 p.m. Thursday\, October 27.\n \nThere is no admission fee and there is plenty of parking space west of the TSTC Wellness & Sports Center right off of North Loop 499. There will be a face painting\, balloon animals\, rock wall climb\, pony rides\, jousts\, kiddie ferris wheel\, a large slide\, bouncer\, sumo wrestling\, football toss\, kiddie car rode\, bungee trampoline and more. The free haunted house will be in the aerobics room of the TSTC Wellness & Sports Center. Costume contests will be held for children and adults. The Silver Spurs and Folklorico Club will provide live entertainment.\n \nBring the camera because Nickelodeon cartoon character Scooby Doo will pose for pictures with youngsters.\n \nBring your appetite\, too. Student clubs will sell pizza\, tacos\, funnel cakes\, candy apples\, cotton candy\, baked goods\, corn in a cup\, brisket sandwiches\, Frito pies\, fruit cups\, kettle corn\, hot dogs\, bistec tacos\, nachos\, hot chocolate\, chicarones with salsa and sour cream\, mud pies\, tostadas with salsa and cheese\, pickles\, hot Cheetos with cheese\, sausage on a stick\, tripa tacos\, gummy bears and spiral potatoes. Call the Student Life Office at 956.364.4304 for details.\n\n \n\n
LOCATION:
UID:e.1828.3218
SEQUENCE:3
DTSTAMP:20260421T021456Z
URL:https://business.harlingen.com/events/details/tstc-celebrates-21st-annual-oktoberfest-10-27-2011-3218
END:VEVENT

END:VCALENDAR
