BEGIN:VCALENDAR
VERSION:2.0
PRODID:-//ChamberMaster//Event Calendar 2.0//EN
METHOD:PUBLISH
X-PUBLISHED-TTL:P3D
REFRESH-INTERVAL:P3D
CALSCALE:GREGORIAN
BEGIN:VEVENT
DTSTART:20110427T230000Z
DTEND:20110427T140000Z
X-MICROSOFT-CDO-ALLDAYEVENT:FALSE
SUMMARY:TSTC CLUB FUNDRAISER TO AID JAPAN DISASTER VICTIMS
DESCRIPTION:The Photojournalism & Design Club of Texas State Technical College Harlingen will sponsor a "Love Japan" concert featuring The Early Release Band. The $7 entry fee will go toward humanitarian relief supplies to Japan through AmeriCares\, an international non-profit agency. Admission is free to children under age 10. Games and activities - except the fishing pond - will be free. Food and beverages will be sold at the Wellness & Sports Center. Call the PhD Club at 956.364.4260 for details.
X-ALT-DESC;FMTTYPE=text/html:The Photojournalism & Design Club of Texas State Technical College Harlingen will sponsor a "Love Japan" concert featuring The Early Release Band. The $7 entry fee will go toward humanitarian relief supplies to Japan through AmeriCares\, an international non-profit agency. Admission is free to children under age 10. Games and activities - except the fishing pond - will be free. Food and beverages will be sold at the Wellness & Sports Center. Call the PhD Club at 956.364.4260 for details.\n \n \n
LOCATION:
UID:e.1828.3026
SEQUENCE:3
DTSTAMP:20260421T113359Z
URL:https://business.harlingen.com/events/details/tstc-club-fundraiser-to-aid-japan-disaster-victims-04-27-2011-3026
END:VEVENT

END:VCALENDAR
