BEGIN:VCALENDAR
VERSION:2.0
PRODID:-//ChamberMaster//Event Calendar 2.0//EN
METHOD:PUBLISH
X-PUBLISHED-TTL:P3D
REFRESH-INTERVAL:P3D
CALSCALE:GREGORIAN
BEGIN:VEVENT
DTSTART:20121003T133000Z
DTEND:20121003T223000Z
X-MICROSOFT-CDO-ALLDAYEVENT:FALSE
SUMMARY:TSTC FREE Soft Skills Training courses
DESCRIPTION:BUILDING BETTER TEAMS - Teams are an important building block of successful organizations. Whether the focus is on service\, quality\, cost\, value\, speed\, efficiency\, performance\, or other similar goals\, teams are the basic unit that supports most organizations. With teams at the core of corporate strategy\, your success as an organization can often depend on how well you and other team members operate together. How are your problem-solving skills? Is the team enthusiastic and motivated to do its best? Do you work well together? This one-day course can help you get there!\n\nBelinda Rojano Tijerina\, Public Speaker\n\nEmbracing professional and personal life experiences to bring encouragement to everyday life's challenges.\n(956) 459-2524 phone\, email: brtijerina@yahoo.com
X-ALT-DESC;FMTTYPE=text/html:BUILDING BETTER TEAMS - Teams are an important building block of successful organizations. Whether the focus is on service\, quality\, cost\, value\, speed\, efficiency\, performance\, or other similar goals\, teams are the basic unit that supports most organizations. With teams at the core of corporate strategy\, your success as an organization can often depend on how well you and other team members operate together. How are your problem-solving skills? Is the team enthusiastic and motivated to do its best? Do you work well together? This one-day course can help you get there!\n\nBelinda Rojano Tijerina\, Public Speaker\n\nEmbracing professional and personal life experiences to bring encouragement to everyday life's challenges.\n(956) 459-2524 phone\, email: brtijerina@yahoo.com\n\n\n\n
LOCATION:
UID:e.1828.4004
SEQUENCE:3
DTSTAMP:20260420T085534Z
URL:https://business.harlingen.com/events/details/tstc-free-soft-skills-training-courses-10-03-2012-4004
END:VEVENT

END:VCALENDAR
