BEGIN:VCALENDAR
VERSION:2.0
PRODID:-//ChamberMaster//Event Calendar 2.0//EN
METHOD:PUBLISH
X-PUBLISHED-TTL:P3D
REFRESH-INTERVAL:P3D
CALSCALE:GREGORIAN
BEGIN:VEVENT
DTSTART:20090904T140000Z
DTEND:20090904T140000Z
X-MICROSOFT-CDO-ALLDAYEVENT:FALSE
SUMMARY:TSTC & Green Mountain Energy Dedication Ceremony for New Solar Photovoltaic System
DESCRIPTION:Texas State Technical College Harlingen and Green Mountain Energy Company (Green Mountain) will officially ''flip the ceremonial switch'' to activate the new solar photovoltaic (PV) system for the college — the school's first solar array.  Green Mountain donated the solar panel system to Texas State Technical College Harlingen.\nGreen Mountain's Super Earth mascot will be in attendance\, as well as Green Mountain's Vanessa Montelongo\; Harlingen Mayor Chris Boswell\; Senator Eddie Lucio Jr.\; State Rep. Eddie Lucio III\; City Commissioners Larry Galbreath and Joey Trevino\; Dr. Cesar Maldonado\, TSTC Harlingen President\; Nora Castaneda\, TSTC Board of Regents\; students and employees of TSTC.  The dedication ceremony will take place in front of Autobody Collision Technology Building located at the intersection of Loop 499 and Raintree St.  For more information\, please contact Keri Gutierrez at Texas State Technical College at 956.364-4114 or by email at keri.gutierrez@harlingen.tstc.edu.
X-ALT-DESC;FMTTYPE=text/html:Texas State Technical College Harlingen and Green Mountain Energy Company (Green Mountain) will officially ''flip the ceremonial switch'' to activate the new solar photovoltaic (PV) system for the college — the school's first solar array.  Green Mountain donated the solar panel system to Texas State Technical College Harlingen.\nGreen Mountain's Super Earth mascot will be in attendance\, as well as Green Mountain's Vanessa Montelongo\; Harlingen Mayor Chris Boswell\; Senator Eddie Lucio Jr.\; State Rep. Eddie Lucio III\; City Commissioners Larry Galbreath and Joey Trevino\; Dr. Cesar Maldonado\, TSTC Harlingen President\; Nora Castaneda\, TSTC Board of Regents\; students and employees of TSTC.  The dedication ceremony will take place in front of Autobody Collision Technology Building located at the intersection of Loop 499 and Raintree St.  For more information\, please contact Keri Gutierrez at Texas State Technical College at 956.364-4114 or by email at keri.gutierrez@harlingen.tstc.edu.
LOCATION:
UID:e.1828.2053
SEQUENCE:3
DTSTAMP:20260422T095330Z
URL:https://business.harlingen.com/events/details/tstc-green-mountain-energy-dedication-ceremony-for-new-solar-photovoltaic-system-09-04-2009-2053
END:VEVENT

END:VCALENDAR
