BEGIN:VCALENDAR
VERSION:2.0
PRODID:-//ChamberMaster//Event Calendar 2.0//EN
METHOD:PUBLISH
X-PUBLISHED-TTL:P3D
REFRESH-INTERVAL:P3D
CALSCALE:GREGORIAN
BEGIN:VEVENT
DTSTART:20110831T150000Z
DTEND:20110831T150000Z
X-MICROSOFT-CDO-ALLDAYEVENT:FALSE
SUMMARY:TSTC Harlingen-University Center
DESCRIPTION:Come celebrate the Grand Opening and Ribbon Cutting for TSTC Harlingen-University Center. Recognition of officials\, dignitaries\, and Congressman Ruben Hinojosa to speak. Sweet bread\, coffee\, and water will be served.
X-ALT-DESC;FMTTYPE=text/html:Come celebrate the Grand Opening and Ribbon Cutting for TSTC Harlingen-University Center. Recognition of officials\, dignitaries\, and Congressman Ruben Hinojosa to speak. Sweet bread\, coffee\, and water will be served.  \n
LOCATION:
UID:e.1828.3143
SEQUENCE:3
DTSTAMP:20260421T051814Z
URL:https://business.harlingen.com/events/details/tstc-harlingen-university-center-08-31-2011-3143
END:VEVENT

END:VCALENDAR
