BEGIN:VCALENDAR
VERSION:2.0
PRODID:-//ChamberMaster//Event Calendar 2.0//EN
METHOD:PUBLISH
X-PUBLISHED-TTL:P3D
REFRESH-INTERVAL:P3D
CALSCALE:GREGORIAN
BEGIN:VEVENT
DTSTART:20100311T150000Z
DTEND:20100311T190000Z
X-MICROSOFT-CDO-ALLDAYEVENT:FALSE
SUMMARY:TSTC INVITES BUSINESSES TO JOB FAIR
DESCRIPTION:No matter the state of the economy\, businesses must eventually replace or add employees and Texas State Technical College Harlingen graduates fill those workforce demands.  The Office of Placement / Cooperative Education at TSTC Harlingen welcomes businesses to participate in the Spring 2010 Job Fair for students and graduates scheduled for 9 AM to 1 PM on Thursday\, March 11. The event will be held at the TSTC Cultural Arts Center\, located at the intersections of Loop 499 and Raintree / Pecan streets. Companies are invited to reserve a booth or simply send one representative to meet with students and graduates. Tours of the campus and specific technology programs will be available.  For details send e-mail to Josephine Saldivar at josie.saldivar@harlingen.tstc.edu or call her at 800.852.8784\, extension 4107\, or 956.364.4107.
X-ALT-DESC;FMTTYPE=text/html:No matter the state of the economy\, businesses must eventually replace or add employees and Texas State Technical College Harlingen graduates fill those workforce demands.  The Office of Placement / Cooperative Education at TSTC Harlingen welcomes businesses to participate in the Spring 2010 Job Fair for students and graduates scheduled for 9 AM to 1 PM on Thursday\, March 11. The event will be held at the TSTC Cultural Arts Center\, located at the intersections of Loop 499 and Raintree / Pecan streets. Companies are invited to reserve a booth or simply send one representative to meet with students and graduates. Tours of the campus and specific technology programs will be available.  For details send e-mail to Josephine Saldivar at josie.saldivar@harlingen.tstc.edu or call her at 800.852.8784\, extension 4107\, or 956.364.4107.\n\n\n
LOCATION:Located at the intersections of North Loop 499 and Raintree / Pecan streets
UID:e.1828.2409
SEQUENCE:3
DTSTAMP:20260422T081240Z
URL:https://business.harlingen.com/events/details/tstc-invites-businesses-to-job-fair-03-11-2010-2409
END:VEVENT

END:VCALENDAR
