BEGIN:VCALENDAR
VERSION:2.0
PRODID:-//ChamberMaster//Event Calendar 2.0//EN
METHOD:PUBLISH
X-PUBLISHED-TTL:P3D
REFRESH-INTERVAL:P3D
CALSCALE:GREGORIAN
BEGIN:VEVENT
DTSTART:20120308T173000Z
DTEND:20120308T200000Z
X-MICROSOFT-CDO-ALLDAYEVENT:FALSE
SUMMARY:U Marketing
DESCRIPTION:This is a seminar that will help clients better understand marketing\, lunch will be provided. By the end of this seminar attendants will learn marketing 101\, understand what the customer needs\, marketing relationships\, and have a recipe for success.Seating is limited so please call to register at 956-380-2800.
X-ALT-DESC;FMTTYPE=text/html:This is a seminar that will help clients better understand marketing\, lunch will be provided. By the end of this seminar attendants will learn marketing 101\, understand what the customer needs\, marketing relationships\, and have a recipe for success.Seating is limited so please call to register at 956-380-2800.
LOCATION:Across Subway on Jackson in downtown Harlingen.
UID:e.1828.3609
SEQUENCE:3
DTSTAMP:20260420T194711Z
URL:https://business.harlingen.com/events/details/u-marketing-03-08-2012-3609
END:VEVENT

END:VCALENDAR
