BEGIN:VCALENDAR
VERSION:2.0
PRODID:-//ChamberMaster//Event Calendar 2.0//EN
METHOD:PUBLISH
X-PUBLISHED-TTL:P3D
REFRESH-INTERVAL:P3D
CALSCALE:GREGORIAN
BEGIN:VEVENT
DTSTART:20100410T230000Z
DTEND:20100410T230000Z
X-MICROSOFT-CDO-ALLDAYEVENT:FALSE
SUMMARY:Uncorking the Past: Wine-Tasting\, Presentation and Book Signing
DESCRIPTION:Join Melinda Esco\, author of Texas Wineries\, as she explores the business of Texas wineries. Enjoy Texas wines compliments of Michael Jones and Jones Liquor. Pre-registration is highly suggested! Texas Wineries will be on sale at the La Tienda Gift Shop at a 15% discount! $10 for members/$15 for non-members
X-ALT-DESC;FMTTYPE=text/html:Join Melinda Esco\, author of Texas Wineries\, as she explores the business of Texas wineries. Enjoy Texas wines compliments of Michael Jones and Jones Liquor. Pre-registration is highly suggested! Texas Wineries will be on sale at the La Tienda Gift Shop at a 15% discount! $10 for members/$15 for non-members\n
LOCATION:Brownsville Heritage Complex
UID:e.1828.2462
SEQUENCE:3
DTSTAMP:20260422T080924Z
URL:https://business.harlingen.com/events/details/uncorking-the-past-wine-tasting-presentation-and-book-signing-04-10-2010-2462
END:VEVENT

END:VCALENDAR
