BEGIN:VCALENDAR
VERSION:2.0
PRODID:-//ChamberMaster//Event Calendar 2.0//EN
METHOD:PUBLISH
X-PUBLISHED-TTL:P3D
REFRESH-INTERVAL:P3D
CALSCALE:GREGORIAN
BEGIN:VEVENT
DTSTART:20120427T140000Z
DTEND:20120427T160000Z
X-MICROSOFT-CDO-ALLDAYEVENT:FALSE
SUMMARY:Understanding Your Credit Report Free Seminar
DESCRIPTION:Understanding Your Credit Report  Free Seminar Presented by U.S. Small Business Administration. For reservations or for more information\, please call Veronica Padilla at 956-427-8533 ext. 233.
X-ALT-DESC;FMTTYPE=text/html:Understanding Your Credit Report  Free Seminar Presented by U.S. Small Business Administration. For reservations or for more information\, please call Veronica Padilla at 956-427-8533 ext. 233.\n
LOCATION:
UID:e.1828.3618
SEQUENCE:3
DTSTAMP:20260420T181923Z
URL:https://business.harlingen.com/events/details/understanding-your-credit-report-free-seminar-04-27-2012-3618
END:VEVENT

END:VCALENDAR
