BEGIN:VCALENDAR
VERSION:2.0
PRODID:-//ChamberMaster//Event Calendar 2.0//EN
METHOD:PUBLISH
X-PUBLISHED-TTL:P3D
REFRESH-INTERVAL:P3D
CALSCALE:GREGORIAN
BEGIN:VEVENT
DTSTART:20210607T190000Z
DTEND:20210607T200000Z
X-MICROSOFT-CDO-ALLDAYEVENT:FALSE
SUMMARY:Unite Us Ribbon Cutting
DESCRIPTION:Unite Us is having their Ribbon Cutting Ceremony on June 7th at 2PM. Join us for a great event!
X-ALT-DESC;FMTTYPE=text/html:Unite Us is having their Ribbon Cutting Ceremony on June 7th at 2PM. Join us for a great event!
LOCATION:Harlingen Chamber of Commerce | 311 E Tyler Ave.\, Harlingen\, TX
UID:e.1828.16574
SEQUENCE:3
DTSTAMP:20260419T141037Z
URL:https://business.harlingen.com/events/details/unite-us-ribbon-cutting-16574
END:VEVENT

END:VCALENDAR
