BEGIN:VCALENDAR
VERSION:2.0
PRODID:-//ChamberMaster//Event Calendar 2.0//EN
METHOD:PUBLISH
X-PUBLISHED-TTL:P3D
REFRESH-INTERVAL:P3D
CALSCALE:GREGORIAN
BEGIN:VEVENT
DTSTART:20121019T140000Z
DTEND:20121019T160000Z
X-MICROSOFT-CDO-ALLDAYEVENT:FALSE
SUMMARY:United Healthcare Medicare Part D Presentation
DESCRIPTION:Are you 65 years or older and have questions about Medicare benefits?  If so\, then you won't want to miss this presentation! For more information\, contact Jacob Jaramillo at (956) 345-7684.
X-ALT-DESC;FMTTYPE=text/html:Are you 65 years or older and have questions about Medicare benefits?  If so\, then you won't want to miss this presentation! For more information\, contact Jacob Jaramillo at (956) 345-7684. \n
LOCATION:
UID:e.1828.4098
SEQUENCE:3
DTSTAMP:20260420T084723Z
URL:https://business.harlingen.com/events/details/united-healthcare-medicare-part-d-presentation-10-19-2012-4098
END:VEVENT

END:VCALENDAR
