BEGIN:VCALENDAR
VERSION:2.0
PRODID:-//ChamberMaster//Event Calendar 2.0//EN
METHOD:PUBLISH
X-PUBLISHED-TTL:P3D
REFRESH-INTERVAL:P3D
CALSCALE:GREGORIAN
BEGIN:VEVENT
DTSTART:20091113T214500Z
DTEND:20091113T214500Z
X-MICROSOFT-CDO-ALLDAYEVENT:FALSE
SUMMARY:United States Senator John Cornyn Gold Medal Presentation Honoring the Children of our Fallen Soldiers of Iraq and Afgha
DESCRIPTION:United States Senator John Cornyn Requests Your Presence For a Special White House Commission on Remembrance Gold Medal Presentation Honoring the Children of our Fallen Soldiers of Iraq and Afghanistan With Honored Guest Marc Cisneros\, Lieutenant General\, U.S. Army (Ret.). The event will take place at the Rio Grande Valley State Veterans Cemetery at 2520 S. Inspiration Road in Mission\, TX.  Special thanks to Mayor Norbeto ''Beto'' Salinas and the City of Mission.
X-ALT-DESC;FMTTYPE=text/html:United States Senator John Cornyn Requests Your Presence For a Special White House Commission on Remembrance Gold Medal Presentation Honoring the Children of our Fallen Soldiers of Iraq and Afghanistan With Honored Guest Marc Cisneros\, Lieutenant General\, U.S. Army (Ret.). The event will take place at the Rio Grande Valley State Veterans Cemetery at 2520 S. Inspiration Road in Mission\, TX.  Special thanks to Mayor Norbeto ''Beto'' Salinas and the City of Mission.\n
LOCATION:
UID:e.1828.2206
SEQUENCE:3
DTSTAMP:20260422T130931Z
URL:https://business.harlingen.com/events/details/united-states-senator-john-cornyn-gold-medal-presentation-honoring-the-children-of-our-fallen-soldiers-of-iraq-and-afgha-11-13-2009-2206
END:VEVENT

END:VCALENDAR
