BEGIN:VCALENDAR
VERSION:2.0
PRODID:-//ChamberMaster//Event Calendar 2.0//EN
METHOD:PUBLISH
X-PUBLISHED-TTL:P3D
REFRESH-INTERVAL:P3D
CALSCALE:GREGORIAN
BEGIN:VEVENT
DTSTART;VALUE=DATE:20090818
DTEND;VALUE=DATE:20090903
TRANSP:TRANSPARENT
X-MICROSOFT-CDO-ALLDAYEVENT:TRUE
SUMMARY:United Way of Northern Cameron County "Stuff The Bus" Campaign
DESCRIPTION:The United Way of Northern Cameron County kicks off the "Stuff The Bus" campaign today!  The organization is collecting school supplies for children in need who live in our service area.  Donations are being accepted through September 2nd at the following locations\;\n \nHarlingen Waterworks\, 134 E. Van Buren\nHarlingen Area Chamber of Commerce\, 311 E. Tyler\nHarlingen Area Teachers Credit Union (3 locations)\n4321 W. Expressway 83\; 2910 E. Grimes & 345 N. Williams Road\, San Benito\nUnited Way of NCC\, 134 E. Van Buren\n \nAll types of school supplies will be accepted\, pencils\, pens\, markers\, crayons\, and paper.  For additional information\, call the United Way office\, 956-423-5954.
X-ALT-DESC;FMTTYPE=text/html:The United Way of Northern Cameron County kicks off the "Stuff The Bus" campaign today!  The organization is collecting school supplies for children in need who live in our service area.  Donations are being accepted through September 2nd at the following locations\;\n \nHarlingen Waterworks\, 134 E. Van Buren\nHarlingen Area Chamber of Commerce\, 311 E. Tyler\nHarlingen Area Teachers Credit Union (3 locations)\n4321 W. Expressway 83\; 2910 E. Grimes & 345 N. Williams Road\, San Benito\nUnited Way of NCC\, 134 E. Van Buren\n \nAll types of school supplies will be accepted\, pencils\, pens\, markers\, crayons\, and paper.  For additional information\, call the United Way office\, 956-423-5954.\n
LOCATION:
UID:e.1828.2026
SEQUENCE:3
DTSTAMP:20260422T081254Z
URL:https://business.harlingen.com/events/details/united-way-of-northern-cameron-county-stuff-the-bus-campaign-08-18-2009-2026
END:VEVENT

END:VCALENDAR
