BEGIN:VCALENDAR
VERSION:2.0
PRODID:-//ChamberMaster//Event Calendar 2.0//EN
METHOD:PUBLISH
X-PUBLISHED-TTL:P3D
REFRESH-INTERVAL:P3D
CALSCALE:GREGORIAN
BEGIN:VEVENT
DTSTART:20110630T160000Z
DTEND:20110630T190000Z
X-MICROSOFT-CDO-ALLDAYEVENT:FALSE
SUMMARY:United Way's National Day of Action
DESCRIPTION:United Way of Northern Cameron County Presents "A Day in the Park"\, Guest Reader Mayor Chris Boswell. \nSack Races\, Family Games\, Book Give-Away. \nSponsored by: United Way\, Partners: Workforce Solutions Cameron\, Boys and Girls Club of Harlingen\, Harlingen Public Library\, City of Harlingen. \n\nUnited Way's National Day of Action mobilizes and inspires citizens to seek ways to Advance the Common Good\, on one day\, and on many.  This year we are hosting a Day of Action at Fair Park with a focus on literacy. There will be reading stations\, mural painting\, games and book give-a-ways.  In partnership with the Boys & Girls Club\, the City of Harlingen\, Workforce Solutions\, and the Harlingen Public library\, we have scheduled this Day of Action in Fair Park\, June 30th\, \nfrom 11 am to 2 pm.\n \nHow can the business community help with this Nation-wide effort to make an impact on childhood literacy?\n \nVOLUNTEER\, JUST AN HOUR OR TWO:  \n11 am to 12\, 12 pm to 1\, 1 pm to 2 \nWe are looking for volunteers to take on a game or activity for the children in attendance.  We have hula hoops\, sacks for sack races\, and yo yo's for a yo-yo contest.  If you and your associates would like to help us out\, it would be greatly appreciated!\n \nGIVE\nWe are looking for lanyards for name tags...\nGoodies to stuff into the books bags\, rulers\, note pads\, pencils\, etc.!\n \nADVOCATE\nHelp spread the word about our Day of Action\, A Day in the Park!\n \nJessica Belschner & Kathy Preddy\nCall 956-423-5954 to volunteer
X-ALT-DESC;FMTTYPE=text/html:United Way of Northern Cameron County Presents "A Day in the Park"\, Guest Reader Mayor Chris Boswell. \nSack Races\, Family Games\, Book Give-Away. \nSponsored by: United Way\, Partners: Workforce Solutions Cameron\, Boys and Girls Club of Harlingen\, Harlingen Public Library\, City of Harlingen. \n\nUnited Way's National Day of Action mobilizes and inspires citizens to seek ways to Advance the Common Good\, on one day\, and on many.  This year we are hosting a Day of Action at Fair Park with a focus on literacy. There will be reading stations\, mural painting\, games and book give-a-ways.  In partnership with the Boys & Girls Club\, the City of Harlingen\, Workforce Solutions\, and the Harlingen Public library\, we have scheduled this Day of Action in Fair Park\, June 30th\, \nfrom 11 am to 2 pm.\n \nHow can the business community help with this Nation-wide effort to make an impact on childhood literacy?\n \nVOLUNTEER\, JUST AN HOUR OR TWO:  \n11 am to 12\, 12 pm to 1\, 1 pm to 2 \nWe are looking for volunteers to take on a game or activity for the children in attendance.  We have hula hoops\, sacks for sack races\, and yo yo's for a yo-yo contest.  If you and your associates would like to help us out\, it would be greatly appreciated!\n \nGIVE\nWe are looking for lanyards for name tags...\nGoodies to stuff into the books bags\, rulers\, note pads\, pencils\, etc.!\n \nADVOCATE\nHelp spread the word about our Day of Action\, A Day in the Park!\n \nJessica Belschner & Kathy Preddy\nCall 956-423-5954 to volunteer\n
LOCATION:
UID:e.1828.3062
SEQUENCE:3
DTSTAMP:20260421T084833Z
URL:https://business.harlingen.com/events/details/united-way-s-national-day-of-action-06-30-2011-3062
END:VEVENT

END:VCALENDAR
