BEGIN:VCALENDAR
VERSION:2.0
PRODID:-//ChamberMaster//Event Calendar 2.0//EN
METHOD:PUBLISH
X-PUBLISHED-TTL:P3D
REFRESH-INTERVAL:P3D
CALSCALE:GREGORIAN
BEGIN:VEVENT
DTSTART:20100914T150000Z
DTEND:20100914T230000Z
X-MICROSOFT-CDO-ALLDAYEVENT:FALSE
SUMMARY:UnitedHealth Group Job Fair
DESCRIPTION:JOB FAIR!!! UnitedHealth Group\, located at 2222 S. 77 Sunshine Strip in Harlingen is looking for customer service representatives with the skills\, commitment and compassion it takes to really make a difference. Full and part time flexible schedules are available. The starting wage is now $11/hr. Consider your future at UnitedHealth Group.
X-ALT-DESC;FMTTYPE=text/html:JOB FAIR!!! UnitedHealth Group\, located at 2222 S. 77 Sunshine Strip in Harlingen is looking for customer service representatives with the skills\, commitment and compassion it takes to really make a difference. Full and part time flexible schedules are available. The starting wage is now $11/hr. Consider your future at UnitedHealth Group. \n
LOCATION:
UID:e.1828.2752
SEQUENCE:3
DTSTAMP:20260422T002100Z
URL:https://business.harlingen.com/events/details/unitedhealth-group-job-fair-09-14-2010-2752
END:VEVENT

END:VCALENDAR
