BEGIN:VCALENDAR
VERSION:2.0
PRODID:-//ChamberMaster//Event Calendar 2.0//EN
METHOD:PUBLISH
X-PUBLISHED-TTL:P3D
REFRESH-INTERVAL:P3D
CALSCALE:GREGORIAN
BEGIN:VEVENT
DTSTART;VALUE=DATE:20110711
DTEND;VALUE=DATE:20110726
TRANSP:TRANSPARENT
X-MICROSOFT-CDO-ALLDAYEVENT:TRUE
SUMMARY:UnitedHealthcare Job Fair
DESCRIPTION:UnitedHealthcare is currently hiring for Customer Service Representatives as well as other positions which \nare available to apply for online. UHC is also having many upcoming job fairs at the Harlingen service center (dates listed below) where candidates can come to get informed about the company and the position. The job fairs are informative and we encourage you to not only refer job seekers but to attend yourself to hear more about our business and who we are! Candidates can stop by any time during our job fair to apply.  If you are not able to visit us on those dates but would like to visit our facility then let me know and we can work out another schedule for you to visit us! \n\nSome basic statistics of the Customer Service Representative Position are as follows:\n•	Candidates must be available 100% flexible to work any shift between 7am to 10pm Mon/Sun \n•	We have PT and FT available \n•	Starting Pay is $11.45 hr \n•	Shift differential offered for evenings and weekends \n•	Our next training class starts on 8/8/11 and 8/15/11\n\nJob Fair Dates: \nDate	Time\n11-Jul	10am to 6pm\n12-Jul	10am to 6pm\n18-Jul	10am to 6pm\n19-Jul	10am to 6pm\n25-Jul	10am to 6pm\n25-Jul	10am to 6pm
X-ALT-DESC;FMTTYPE=text/html:UnitedHealthcare is currently hiring for Customer Service Representatives as well as other positions which \nare available to apply for online. UHC is also having many upcoming job fairs at the Harlingen service center (dates listed below) where candidates can come to get informed about the company and the position. The job fairs are informative and we encourage you to not only refer job seekers but to attend yourself to hear more about our business and who we are! Candidates can stop by any time during our job fair to apply.  If you are not able to visit us on those dates but would like to visit our facility then let me know and we can work out another schedule for you to visit us! \n\nSome basic statistics of the Customer Service Representative Position are as follows:\n•	Candidates must be available 100% flexible to work any shift between 7am to 10pm Mon/Sun \n•	We have PT and FT available \n•	Starting Pay is $11.45 hr \n•	Shift differential offered for evenings and weekends \n•	Our next training class starts on 8/8/11 and 8/15/11\n\nJob Fair Dates: \nDate	Time\n11-Jul	10am to 6pm\n12-Jul	10am to 6pm\n18-Jul	10am to 6pm\n19-Jul	10am to 6pm\n25-Jul	10am to 6pm\n25-Jul	10am to 6pm\n \n
LOCATION:
UID:e.1828.3126
SEQUENCE:3
DTSTAMP:20260421T064711Z
URL:https://business.harlingen.com/events/details/unitedhealthcare-job-fair-07-11-2011-3126
END:VEVENT

END:VCALENDAR
