BEGIN:VCALENDAR
VERSION:2.0
PRODID:-//ChamberMaster//Event Calendar 2.0//EN
METHOD:PUBLISH
X-PUBLISHED-TTL:P3D
REFRESH-INTERVAL:P3D
CALSCALE:GREGORIAN
BEGIN:VEVENT
DTSTART:20091121T160000Z
DTEND:20091121T203000Z
X-MICROSOFT-CDO-ALLDAYEVENT:FALSE
SUMMARY:Unity Church of Brownsville FALL FESTIVAL
DESCRIPTION:Unity Church of Brownsville FALL FESTIVAL.  Handmade crafts\, Baked goods and Herbal Plants.  Just like grandma's!   For more information\, please call 956-831-2008.
X-ALT-DESC;FMTTYPE=text/html:Unity Church of Brownsville FALL FESTIVAL.  Handmade crafts\, Baked goods and Herbal Plants.  Just like grandma's!   For more information\, please call 956-831-2008.   \n\n
LOCATION:Corner of 802 and Seville
UID:e.1828.2183
SEQUENCE:3
DTSTAMP:20260422T144724Z
URL:https://business.harlingen.com/events/details/unity-church-of-brownsville-fall-festival-11-21-2009-2183
END:VEVENT

END:VCALENDAR
