BEGIN:VCALENDAR
VERSION:2.0
PRODID:-//ChamberMaster//Event Calendar 2.0//EN
METHOD:PUBLISH
X-PUBLISHED-TTL:P3D
REFRESH-INTERVAL:P3D
CALSCALE:GREGORIAN
BEGIN:VEVENT
DTSTART:20110629T160000Z
DTEND:20110629T180000Z
X-MICROSOFT-CDO-ALLDAYEVENT:FALSE
SUMMARY:UNIVERSITIES PLAN INFORMATION SESSIONS AT TSTC
DESCRIPTION:UNIVERSITIES PLAN INFORMATION SESSIONS AT TSTC\n \nDo you plan to earn a bachelor's degree\, master's degree or doctorate?\n \nThe University Center at Harlingen on the campus of Texas State Technical College Harlingen will bring more higher education opportunities to the Rio Grande Valley. Representatives from the University of Texas-Pan American\, the University of Texas at Brownsville\, TAMUK\, Texas A&M University-Corpus Christi\, University of Houston\, Wayland Baptist University and Le Tourneau University will provide information and answer questions in the TSTC Student Center from 11 AM to 1 PM June 29.\n \nThese universities also will meet with prospective students to discuss graduate studies in the TSTC Cultural Arts Center \n6:30pm-8:30pm June 29.\n \nContact Lisa Cavazos at lisa.cavazos@harlingen.tstc.edu for details.
X-ALT-DESC;FMTTYPE=text/html:UNIVERSITIES PLAN INFORMATION SESSIONS AT TSTC\n \nDo you plan to earn a bachelor's degree\, master's degree or doctorate?\n \nThe University Center at Harlingen on the campus of Texas State Technical College Harlingen will bring more higher education opportunities to the Rio Grande Valley. Representatives from the University of Texas-Pan American\, the University of Texas at Brownsville\, TAMUK\, Texas A&M University-Corpus Christi\, University of Houston\, Wayland Baptist University and Le Tourneau University will provide information and answer questions in the TSTC Student Center from 11 AM to 1 PM June 29.\n \nThese universities also will meet with prospective students to discuss graduate studies in the TSTC Cultural Arts Center \n6:30pm-8:30pm June 29.\n \nContact Lisa Cavazos at lisa.cavazos@harlingen.tstc.edu for details.\n\n
LOCATION:TSTC Student Center
UID:e.1828.3088
SEQUENCE:3
DTSTAMP:20260421T081109Z
URL:https://business.harlingen.com/events/details/universities-plan-information-sessions-at-tstc-06-29-2011-3088
END:VEVENT

END:VCALENDAR
